BEGIN:VCALENDAR
VERSION:2.0
PRODID:-//St Lucie Shooting Center - ECPv6.15.18//NONSGML v1.0//EN
CALSCALE:GREGORIAN
METHOD:PUBLISH
X-WR-CALNAME:St Lucie Shooting Center
X-ORIGINAL-URL:https://stlucieshooting.com
X-WR-CALDESC:Events for St Lucie Shooting Center
REFRESH-INTERVAL;VALUE=DURATION:PT1H
X-Robots-Tag:noindex
X-PUBLISHED-TTL:PT1H
BEGIN:VTIMEZONE
TZID:UTC
BEGIN:STANDARD
TZOFFSETFROM:+0000
TZOFFSETTO:+0000
TZNAME:UTC
DTSTART:20190101T000000
END:STANDARD
END:VTIMEZONE
BEGIN:VEVENT
DTSTART;TZID=UTC:20200917T180000
DTEND;TZID=UTC:20200917T200000
DTSTAMP:20260423T133154
CREATED:20200901T162343Z
LAST-MODIFIED:20200911T003117Z
UID:734-1600365600-1600372800@stlucieshooting.com
SUMMARY:Gun Cleaning & Maintenance
DESCRIPTION:Learn how to clean and maintain your weapon.  \nClass is open seating\, meaning show up any time in the time period(6pm-8pm) to join the class!  \nRequired : Firearm\, firearm manual(if available)\, gun cleaning kit(available for purchase)
URL:https://stlucieshooting.com/event/gun-cleaning-and-maintenance/
LOCATION:St Lucie Shooting Center\, 492 NW Concourse Pl\, Port Saint Lucie\, FL\, 34986\, United States
END:VEVENT
END:VCALENDAR