BEGIN:VCALENDAR
VERSION:2.0
PRODID:-//St Lucie Shooting Center - ECPv6.15.18//NONSGML v1.0//EN
CALSCALE:GREGORIAN
METHOD:PUBLISH
X-ORIGINAL-URL:https://stlucieshooting.com
X-WR-CALDESC:Events for St Lucie Shooting Center
REFRESH-INTERVAL;VALUE=DURATION:PT1H
X-Robots-Tag:noindex
X-PUBLISHED-TTL:PT1H
BEGIN:VTIMEZONE
TZID:UTC
BEGIN:STANDARD
TZOFFSETFROM:+0000
TZOFFSETTO:+0000
TZNAME:UTC
DTSTART:20190101T000000
END:STANDARD
END:VTIMEZONE
BEGIN:VEVENT
DTSTART;TZID=UTC:20201022T100000
DTEND;TZID=UTC:20201022T130000
DTSTAMP:20260423T121006
CREATED:20201014T151729Z
LAST-MODIFIED:20201014T151729Z
UID:1106-1603360800-1603371600@stlucieshooting.com
SUMMARY:CCW 1
DESCRIPTION:During the course\, students will have mostly classroom instruction\, at the end of the class there will be a firearm safety and handing assignment in the range. Completion of this class satisfies the competency requirement necessary to obtain a concealed weapon or firearm license under Florida law. \n3 hour course \nPlease arrive 5-10 minutes early for the class. \nComfortable and appropriate clothing(no open toed shoes/low cut shirts due to hot brass while shooting). \nEye and ear protection\, firearm and ammunition are all provided. \nIf this is your first time visiting our range\, be sure to fill out our waiver by clicking here : Waiver
URL:https://stlucieshooting.com/event/ccw-1-35/
LOCATION:St Lucie Shooting Center\, 492 NW Concourse Pl\, Port Saint Lucie\, FL\, 34986\, United States
END:VEVENT
BEGIN:VEVENT
DTSTART;TZID=UTC:20201022T180000
DTEND;TZID=UTC:20201022T200000
DTSTAMP:20260423T121006
CREATED:20201012T170853Z
LAST-MODIFIED:20201012T171232Z
UID:1058-1603389600-1603396800@stlucieshooting.com
SUMMARY:Gun Cleaning & Maintenance
DESCRIPTION:Learn how to clean and maintain your weapon.  \nClass is open seating\, meaning show up any time in the time period(6pm-8pm) to join the class!  \nRequired : Firearm\, firearm manual(if available)\, gun cleaning kit(available for purchase) \nNO LIVE AMMO ALLOWED IN THE CLASS
URL:https://stlucieshooting.com/event/gun-cleaning-maintenance/
LOCATION:St Lucie Shooting Center\, 492 NW Concourse Pl\, Port Saint Lucie\, FL\, 34986\, United States
END:VEVENT
END:VCALENDAR