BEGIN:VCALENDAR
VERSION:2.0
PRODID:-//St Lucie Shooting Center - ECPv6.15.18//NONSGML v1.0//EN
CALSCALE:GREGORIAN
METHOD:PUBLISH
X-WR-CALNAME:St Lucie Shooting Center
X-ORIGINAL-URL:https://stlucieshooting.com
X-WR-CALDESC:Events for St Lucie Shooting Center
REFRESH-INTERVAL;VALUE=DURATION:PT1H
X-Robots-Tag:noindex
X-PUBLISHED-TTL:PT1H
BEGIN:VTIMEZONE
TZID:UTC
BEGIN:STANDARD
TZOFFSETFROM:+0000
TZOFFSETTO:+0000
TZNAME:UTC
DTSTART:20190101T000000
END:STANDARD
END:VTIMEZONE
BEGIN:VEVENT
DTSTART;TZID=UTC:20201109T170000
DTEND;TZID=UTC:20201109T200000
DTSTAMP:20260423T104708
CREATED:20200919T151327Z
LAST-MODIFIED:20200919T151442Z
UID:868-1604941200-1604952000@stlucieshooting.com
SUMMARY:CCW1 (Spanish)
DESCRIPTION:This is a CCW 1 Class in Spanish \nClase De Licencia De Armas Ocultas. Esta class se Enseña en Español. \nDurante el curso\, los estudiantes tendrán principalmente instrucción en el aula\, al final de la clase habrá una asignación de seguridad y entrega de armas de fuego en el rango. La finalización de esta clase satisface el requisito de competencia necesario para obtener un arma oculta o una licencia de arma de fuego según la ley de Florida. \nCurso de 3 horas \nLlegue de 5 a 10 minutos antes de la clase. \nRopa cómoda y apropiada (no zapatos con puntera abierta / camisas sin manga debido al bronce caliente). \nProveerermos protección para los ojos y los oídos\, armas de fuego y municiones. \nSi tiene una pregunta\, por favor\, contacte con Frank a 347-287-7069\, o Frank@stlucieshooting.com  \n Si es la primera vez que visita nuestro rango\, asegúrese de completar nuestra forma de entrada haciendo clic aquí: Forma
URL:https://stlucieshooting.com/event/ccw1-spanish-2/
LOCATION:St Lucie Shooting Center\, 492 NW Concourse Pl\, Port Saint Lucie\, FL\, 34986\, United States
END:VEVENT
END:VCALENDAR