BEGIN:VCALENDAR
VERSION:2.0
PRODID:-//St Lucie Shooting Center - ECPv6.15.18//NONSGML v1.0//EN
CALSCALE:GREGORIAN
METHOD:PUBLISH
X-ORIGINAL-URL:https://stlucieshooting.com
X-WR-CALDESC:Events for St Lucie Shooting Center
REFRESH-INTERVAL;VALUE=DURATION:PT1H
X-Robots-Tag:noindex
X-PUBLISHED-TTL:PT1H
BEGIN:VTIMEZONE
TZID:UTC
BEGIN:STANDARD
TZOFFSETFROM:+0000
TZOFFSETTO:+0000
TZNAME:UTC
DTSTART:20200101T000000
END:STANDARD
END:VTIMEZONE
BEGIN:VEVENT
DTSTART;TZID=UTC:20210211T180000
DTEND;TZID=UTC:20210211T210000
DTSTAMP:20260423T064805
CREATED:20210128T194815Z
LAST-MODIFIED:20210128T194815Z
UID:1812-1613066400-1613077200@stlucieshooting.com
SUMMARY:Ladies Night Fundamentals
DESCRIPTION:This class will review shooting fundamentals\, concealed carry methods for ladies\, non-live/live drills\, muscle memory drills\, and how to load/unload magazines and clearing of firearms. \n$60.00 per student(ladies only)\nStudent will need a firearm(rentals available)\, and one box of ammunition(available for purchase).\nEye and ear protection provided. \nIf this is your first time visiting our range\, be sure to fill out our waiver by clicking here : Waiver
URL:https://stlucieshooting.com/event/ladies-night-fundamentals-4/
LOCATION:St Lucie Shooting Center\, 492 NW Concourse Pl\, Port Saint Lucie\, FL\, 34986\, United States
END:VEVENT
END:VCALENDAR