BEGIN:VCALENDAR
VERSION:2.0
PRODID:-//St Lucie Shooting Center - ECPv6.15.18//NONSGML v1.0//EN
CALSCALE:GREGORIAN
METHOD:PUBLISH
X-WR-CALNAME:St Lucie Shooting Center
X-ORIGINAL-URL:https://stlucieshooting.com
X-WR-CALDESC:Events for St Lucie Shooting Center
REFRESH-INTERVAL;VALUE=DURATION:PT1H
X-Robots-Tag:noindex
X-PUBLISHED-TTL:PT1H
BEGIN:VTIMEZONE
TZID:UTC
BEGIN:STANDARD
TZOFFSETFROM:+0000
TZOFFSETTO:+0000
TZNAME:UTC
DTSTART:20200101T000000
END:STANDARD
END:VTIMEZONE
BEGIN:VEVENT
DTSTART;TZID=UTC:20210323T180000
DTEND;TZID=UTC:20210323T210000
DTSTAMP:20260423T053921
CREATED:20210312T010153Z
LAST-MODIFIED:20210312T010153Z
UID:2631-1616522400-1616533200@stlucieshooting.com
SUMMARY:Fundamentals Firearm Course
DESCRIPTION:This class will review the basics covered in the basics class and also coached dry fire and live fire exercises. \nThe basics weapon class is required before you can take this class \n$70.00 / 3 hour course\nEye & Ear protection provided\, targets provided\nStudents will need a firearm(rentals available for -$15.00)\nStudents will need 100 rounds of ammunition(not included\, but available for purchase at the range)\nWear comfortable and appropriate clothing(no low cut shirts or open toed shoes recommended) \nIf this is your first time visiting our range\, be sure to fill out our waiver by clicking here : Waiver \nCall us at 772-340-4499 for more information and/or to sign up
URL:https://stlucieshooting.com/event/fundamentals-firearm-course/
LOCATION:St Lucie Shooting Center\, 492 NW Concourse Pl\, Port Saint Lucie\, FL\, 34986\, United States
END:VEVENT
END:VCALENDAR