BEGIN:VCALENDAR
VERSION:2.0
PRODID:-//St Lucie Shooting Center - ECPv6.15.18//NONSGML v1.0//EN
CALSCALE:GREGORIAN
METHOD:PUBLISH
X-ORIGINAL-URL:https://stlucieshooting.com
X-WR-CALDESC:Events for St Lucie Shooting Center
REFRESH-INTERVAL;VALUE=DURATION:PT1H
X-Robots-Tag:noindex
X-PUBLISHED-TTL:PT1H
BEGIN:VTIMEZONE
TZID:UTC
BEGIN:STANDARD
TZOFFSETFROM:+0000
TZOFFSETTO:+0000
TZNAME:UTC
DTSTART:20200101T000000
END:STANDARD
END:VTIMEZONE
BEGIN:VEVENT
DTSTART;TZID=UTC:20210513T170000
DTEND;TZID=UTC:20210513T210000
DTSTAMP:20260423T025505
CREATED:20210429T032726Z
LAST-MODIFIED:20210429T032726Z
UID:3856-1620925200-1620939600@stlucieshooting.com
SUMMARY:Intro To Tactics
DESCRIPTION:This class will review tactical and rapid reload methods\, types of jams and clearing methods\, functions\, shooting positions\, and shooting drills as well as loading\, unloading\, and reloading drills. Call us at 772-340-4499 for more information and/or to sign up. \nMust Have Experience or have taken one of the previous classes \n$75.00 per student / 4 hour course\nStudents will need an AR style rifle\, 200-300 rounds of ammunition\, 3 magazines\, a sling\, and pouches for the magazines.\nEye and ear protection provided. \nIf this is your first time visiting our range\, be sure to fill out our waiver by clicking here : Waiver
URL:https://stlucieshooting.com/event/intro-to-tactics/
LOCATION:St Lucie Shooting Center\, 492 NW Concourse Pl\, Port Saint Lucie\, FL\, 34986\, United States
END:VEVENT
END:VCALENDAR