BEGIN:VCALENDAR
VERSION:2.0
PRODID:-//St Lucie Shooting Center - ECPv6.15.18//NONSGML v1.0//EN
CALSCALE:GREGORIAN
METHOD:PUBLISH
X-WR-CALNAME:St Lucie Shooting Center
X-ORIGINAL-URL:https://stlucieshooting.com
X-WR-CALDESC:Events for St Lucie Shooting Center
REFRESH-INTERVAL;VALUE=DURATION:PT1H
X-Robots-Tag:noindex
X-PUBLISHED-TTL:PT1H
BEGIN:VTIMEZONE
TZID:UTC
BEGIN:STANDARD
TZOFFSETFROM:+0000
TZOFFSETTO:+0000
TZNAME:UTC
DTSTART:20200101T000000
END:STANDARD
END:VTIMEZONE
BEGIN:VEVENT
DTSTART;TZID=UTC:20211201T180000
DTEND;TZID=UTC:20211201T210000
DTSTAMP:20260422T152058
CREATED:20211120T154320Z
LAST-MODIFIED:20211210T195908Z
UID:8228-1638381600-1638392400@stlucieshooting.com
SUMMARY:CCW
DESCRIPTION:During the course\, students will have mostly classroom instruction\, at the end of the class there will be a firearm safety and handing assignment in the range. Completion of this class satisfies the competency requirement necessary to obtain a concealed weapon or firearm license under Florida law. \n3 hour course \nPlease arrive 5-10 minutes early for the class. \nComfortable and appropriate clothing(no open toed shoes/low cut shirts due to hot brass while shooting). \nEye and ear protection\, firearm and ammunition are all provided. \nIf this is your first time visiting our range\, be sure to fill out our waiver by clicking here : Waiver
URL:https://stlucieshooting.com/event/ccw-4/
LOCATION:St Lucie Shooting Center\, 492 NW Concourse Pl\, Port Saint Lucie\, FL\, 34986\, United States
END:VEVENT
BEGIN:VEVENT
DTSTART;TZID=UTC:20211204T100000
DTEND;TZID=UTC:20211204T130000
DTSTAMP:20260422T152058
CREATED:20211120T154426Z
LAST-MODIFIED:20211120T154747Z
UID:8236-1638612000-1638622800@stlucieshooting.com
SUMMARY:CCW
DESCRIPTION:During the course\, students will have mostly classroom instruction\, at the end of the class there will be a firearm safety and handing assignment in the range. Completion of this class satisfies the competency requirement necessary to obtain a concealed weapon or firearm license under Florida law. \n3 hour course \nPlease arrive 5-10 minutes early for the class. \nComfortable and appropriate clothing(no open toed shoes/low cut shirts due to hot brass while shooting). \nEye and ear protection\, firearm and ammunition are all provided. \nIf this is your first time visiting our range\, be sure to fill out our waiver by clicking here : Waiver
URL:https://stlucieshooting.com/event/ccw-5/
LOCATION:St Lucie Shooting Center\, 492 NW Concourse Pl\, Port Saint Lucie\, FL\, 34986\, United States
END:VEVENT
BEGIN:VEVENT
DTSTART;TZID=UTC:20211205T100000
DTEND;TZID=UTC:20211205T130000
DTSTAMP:20260422T152058
CREATED:20211120T154536Z
LAST-MODIFIED:20211120T154827Z
UID:8241-1638698400-1638709200@stlucieshooting.com
SUMMARY:CCW
DESCRIPTION:During the course\, students will have mostly classroom instruction\, at the end of the class there will be a firearm safety and handing assignment in the range. Completion of this class satisfies the competency requirement necessary to obtain a concealed weapon or firearm license under Florida law. \n3 hour course \nPlease arrive 5-10 minutes early for the class. \nComfortable and appropriate clothing(no open toed shoes/low cut shirts due to hot brass while shooting). \nEye and ear protection\, firearm and ammunition are all provided. \nIf this is your first time visiting our range\, be sure to fill out our waiver by clicking here : Waiver
URL:https://stlucieshooting.com/event/ccw-6/
LOCATION:St Lucie Shooting Center\, 492 NW Concourse Pl\, Port Saint Lucie\, FL\, 34986\, United States
END:VEVENT
BEGIN:VEVENT
DTSTART;TZID=UTC:20211208T180000
DTEND;TZID=UTC:20211208T210000
DTSTAMP:20260422T152058
CREATED:20211120T154320Z
LAST-MODIFIED:20211120T154914Z
UID:8232-1638986400-1638997200@stlucieshooting.com
SUMMARY:CCW
DESCRIPTION:During the course\, students will have mostly classroom instruction\, at the end of the class there will be a firearm safety and handing assignment in the range. Completion of this class satisfies the competency requirement necessary to obtain a concealed weapon or firearm license under Florida law. \n3 hour course \nPlease arrive 5-10 minutes early for the class. \nComfortable and appropriate clothing(no open toed shoes/low cut shirts due to hot brass while shooting). \nEye and ear protection\, firearm and ammunition are all provided. \nIf this is your first time visiting our range\, be sure to fill out our waiver by clicking here : Waiver
URL:https://stlucieshooting.com/event/ccw-4-2021-12-08/
LOCATION:St Lucie Shooting Center\, 492 NW Concourse Pl\, Port Saint Lucie\, FL\, 34986\, United States
END:VEVENT
BEGIN:VEVENT
DTSTART;TZID=UTC:20211211T100000
DTEND;TZID=UTC:20211211T130000
DTSTAMP:20260422T152058
CREATED:20211120T154426Z
LAST-MODIFIED:20211210T195953Z
UID:8238-1639216800-1639227600@stlucieshooting.com
SUMMARY:CCW
DESCRIPTION:During the course\, students will have mostly classroom instruction\, at the end of the class there will be a firearm safety and handing assignment in the range. Completion of this class satisfies the competency requirement necessary to obtain a concealed weapon or firearm license under Florida law. \n3 hour course \nPlease arrive 5-10 minutes early for the class. \nComfortable and appropriate clothing(no open toed shoes/low cut shirts due to hot brass while shooting). \nEye and ear protection\, firearm and ammunition are all provided. \nIf this is your first time visiting our range\, be sure to fill out our waiver by clicking here : Waiver
URL:https://stlucieshooting.com/event/ccw-5-2021-12-11/
LOCATION:St Lucie Shooting Center\, 492 NW Concourse Pl\, Port Saint Lucie\, FL\, 34986\, United States
END:VEVENT
BEGIN:VEVENT
DTSTART;TZID=UTC:20211212T100000
DTEND;TZID=UTC:20211212T130000
DTSTAMP:20260422T152058
CREATED:20211120T155526Z
LAST-MODIFIED:20211210T200016Z
UID:8259-1639303200-1639314000@stlucieshooting.com
SUMMARY:CCW
DESCRIPTION:During the course\, students will have mostly classroom instruction\, at the end of the class there will be a firearm safety and handing assignment in the range. Completion of this class satisfies the competency requirement necessary to obtain a concealed weapon or firearm license under Florida law. \n3 hour course \nPlease arrive 5-10 minutes early for the class. \nComfortable and appropriate clothing(no open toed shoes/low cut shirts due to hot brass while shooting). \nEye and ear protection\, firearm and ammunition are all provided. \nIf this is your first time visiting our range\, be sure to fill out our waiver by clicking here : Waiver
URL:https://stlucieshooting.com/event/ccw-7/
LOCATION:St Lucie Shooting Center\, 492 NW Concourse Pl\, Port Saint Lucie\, FL\, 34986\, United States
END:VEVENT
BEGIN:VEVENT
DTSTART;TZID=UTC:20211215T180000
DTEND;TZID=UTC:20211215T210000
DTSTAMP:20260422T152058
CREATED:20211120T154320Z
LAST-MODIFIED:20211210T200057Z
UID:8233-1639591200-1639602000@stlucieshooting.com
SUMMARY:CCW
DESCRIPTION:During the course\, students will have mostly classroom instruction\, at the end of the class there will be a firearm safety and handing assignment in the range. Completion of this class satisfies the competency requirement necessary to obtain a concealed weapon or firearm license under Florida law. \n3 hour course \nPlease arrive 5-10 minutes early for the class. \nComfortable and appropriate clothing(no open toed shoes/low cut shirts due to hot brass while shooting). \nEye and ear protection\, firearm and ammunition are all provided. \nIf this is your first time visiting our range\, be sure to fill out our waiver by clicking here : Waiver
URL:https://stlucieshooting.com/event/ccw-4-2021-12-15/
LOCATION:St Lucie Shooting Center\, 492 NW Concourse Pl\, Port Saint Lucie\, FL\, 34986\, United States
END:VEVENT
BEGIN:VEVENT
DTSTART;TZID=UTC:20211218T100000
DTEND;TZID=UTC:20211218T130000
DTSTAMP:20260422T152058
CREATED:20211120T154426Z
LAST-MODIFIED:20211210T200112Z
UID:8239-1639821600-1639832400@stlucieshooting.com
SUMMARY:CCW
DESCRIPTION:During the course\, students will have mostly classroom instruction\, at the end of the class there will be a firearm safety and handing assignment in the range. Completion of this class satisfies the competency requirement necessary to obtain a concealed weapon or firearm license under Florida law. \n3 hour course \nPlease arrive 5-10 minutes early for the class. \nComfortable and appropriate clothing(no open toed shoes/low cut shirts due to hot brass while shooting). \nEye and ear protection\, firearm and ammunition are all provided. \nIf this is your first time visiting our range\, be sure to fill out our waiver by clicking here : Waiver
URL:https://stlucieshooting.com/event/ccw-5-2021-12-18/
LOCATION:St Lucie Shooting Center\, 492 NW Concourse Pl\, Port Saint Lucie\, FL\, 34986\, United States
END:VEVENT
BEGIN:VEVENT
DTSTART;TZID=UTC:20211219T100000
DTEND;TZID=UTC:20211219T130000
DTSTAMP:20260422T152058
CREATED:20211120T155812Z
LAST-MODIFIED:20211210T200125Z
UID:8262-1639908000-1639918800@stlucieshooting.com
SUMMARY:CCW
DESCRIPTION:During the course\, students will have mostly classroom instruction\, at the end of the class there will be a firearm safety and handing assignment in the range. Completion of this class satisfies the competency requirement necessary to obtain a concealed weapon or firearm license under Florida law. \n3 hour course \nPlease arrive 5-10 minutes early for the class. \nComfortable and appropriate clothing(no open toed shoes/low cut shirts due to hot brass while shooting). \nEye and ear protection\, firearm and ammunition are all provided. \nIf this is your first time visiting our range\, be sure to fill out our waiver by clicking here : Waiver
URL:https://stlucieshooting.com/event/ccw-8/
LOCATION:St Lucie Shooting Center\, 492 NW Concourse Pl\, Port Saint Lucie\, FL\, 34986\, United States
END:VEVENT
BEGIN:VEVENT
DTSTART;TZID=UTC:20211221T180000
DTEND;TZID=UTC:20211221T200000
DTSTAMP:20260422T152058
CREATED:20211215T162341Z
LAST-MODIFIED:20211215T162341Z
UID:8850-1640109600-1640116800@stlucieshooting.com
SUMMARY:Fundamentals Firearm Course
DESCRIPTION:This class will review the basics covered in the basic pistol class and also coached dry fire and live fire exercises. Call us at 772-340-4499 for more information and/or to sign up \nMust Have Experience or have taken the basic pistol course \n$60.00 / 3 hour course\nEye & Ear protection provided\, targets provided\nStudents will need a firearm(rentals available for $15.00)\nStudents will need 100 rounds of ammunition(not included\, but available for purchase at the range)\nWear comfortable and appropriate clothing(no low cut shirts or open toed shoes recommended) \nIf this is your first time visiting our range\, be sure to fill out our waiver by clicking here : Waiver
URL:https://stlucieshooting.com/event/fundamentals-firearm-course-32/
LOCATION:St Lucie Shooting Center\, 492 NW Concourse Pl\, Port Saint Lucie\, FL\, 34986\, United States
END:VEVENT
BEGIN:VEVENT
DTSTART;TZID=UTC:20211222T180000
DTEND;TZID=UTC:20211222T210000
DTSTAMP:20260422T152058
CREATED:20211120T154320Z
LAST-MODIFIED:20211210T200139Z
UID:8234-1640196000-1640206800@stlucieshooting.com
SUMMARY:CCW
DESCRIPTION:During the course\, students will have mostly classroom instruction\, at the end of the class there will be a firearm safety and handing assignment in the range. Completion of this class satisfies the competency requirement necessary to obtain a concealed weapon or firearm license under Florida law. \n3 hour course \nPlease arrive 5-10 minutes early for the class. \nComfortable and appropriate clothing(no open toed shoes/low cut shirts due to hot brass while shooting). \nEye and ear protection\, firearm and ammunition are all provided. \nIf this is your first time visiting our range\, be sure to fill out our waiver by clicking here : Waiver
URL:https://stlucieshooting.com/event/ccw-4-2021-12-22/
LOCATION:St Lucie Shooting Center\, 492 NW Concourse Pl\, Port Saint Lucie\, FL\, 34986\, United States
END:VEVENT
BEGIN:VEVENT
DTSTART;TZID=UTC:20211226T100000
DTEND;TZID=UTC:20211226T130000
DTSTAMP:20260422T152058
CREATED:20211120T155853Z
LAST-MODIFIED:20211210T200156Z
UID:8265-1640512800-1640523600@stlucieshooting.com
SUMMARY:CCW
DESCRIPTION:During the course\, students will have mostly classroom instruction\, at the end of the class there will be a firearm safety and handing assignment in the range. Completion of this class satisfies the competency requirement necessary to obtain a concealed weapon or firearm license under Florida law. \n3 hour course \nPlease arrive 5-10 minutes early for the class. \nComfortable and appropriate clothing(no open toed shoes/low cut shirts due to hot brass while shooting). \nEye and ear protection\, firearm and ammunition are all provided. \nIf this is your first time visiting our range\, be sure to fill out our waiver by clicking here : Waiver
URL:https://stlucieshooting.com/event/ccw-9/
LOCATION:St Lucie Shooting Center\, 492 NW Concourse Pl\, Port Saint Lucie\, FL\, 34986\, United States
END:VEVENT
BEGIN:VEVENT
DTSTART;TZID=UTC:20211227T180000
DTEND;TZID=UTC:20211227T210000
DTSTAMP:20260422T152058
CREATED:20211215T161935Z
LAST-MODIFIED:20211215T161935Z
UID:8847-1640628000-1640638800@stlucieshooting.com
SUMMARY:Basic Pistol Class
DESCRIPTION:This class will review the fundamentals covered in the ccw class and also coached dry fire and live fire exercises. Little to now experience needed. Call us at 772-340-4499 for more information and/or to sign up. \n$60.00 / 3 hour course\nEye & Ear protection provided\, targets provided\nStudents will need a firearm\, holster\, magazines\, and magazine pouches.\nStudents will need a box of ammunition(not included\, but available for purchase at the range)\nWear comfortable and appropriate clothing(no low cut shirts or open toed shoes recommended) \nIf this is your first time visiting our range\, be sure to fill out our waiver by clicking here : Waiver
URL:https://stlucieshooting.com/event/basic-pistol-class-13/
LOCATION:St Lucie Shooting Center\, 492 NW Concourse Pl\, Port Saint Lucie\, FL\, 34986\, United States
END:VEVENT
BEGIN:VEVENT
DTSTART;TZID=UTC:20211228T180000
DTEND;TZID=UTC:20211228T200000
DTSTAMP:20260422T152058
CREATED:20211215T162422Z
LAST-MODIFIED:20211215T162422Z
UID:8852-1640714400-1640721600@stlucieshooting.com
SUMMARY:Fundamentals Firearm Course
DESCRIPTION:This class will review the basics covered in the basic pistol class and also coached dry fire and live fire exercises. Call us at 772-340-4499 for more information and/or to sign up \nMust Have Experience or have taken the basic pistol course \n$60.00 / 3 hour course\nEye & Ear protection provided\, targets provided\nStudents will need a firearm(rentals available for $15.00)\nStudents will need 100 rounds of ammunition(not included\, but available for purchase at the range)\nWear comfortable and appropriate clothing(no low cut shirts or open toed shoes recommended) \nIf this is your first time visiting our range\, be sure to fill out our waiver by clicking here : Waiver
URL:https://stlucieshooting.com/event/fundamentals-firearm-course-33/
LOCATION:St Lucie Shooting Center\, 492 NW Concourse Pl\, Port Saint Lucie\, FL\, 34986\, United States
END:VEVENT
BEGIN:VEVENT
DTSTART;TZID=UTC:20211229T180000
DTEND;TZID=UTC:20211229T210000
DTSTAMP:20260422T152058
CREATED:20211120T154320Z
LAST-MODIFIED:20211210T200211Z
UID:8235-1640800800-1640811600@stlucieshooting.com
SUMMARY:CCW
DESCRIPTION:During the course\, students will have mostly classroom instruction\, at the end of the class there will be a firearm safety and handing assignment in the range. Completion of this class satisfies the competency requirement necessary to obtain a concealed weapon or firearm license under Florida law. \n3 hour course \nPlease arrive 5-10 minutes early for the class. \nComfortable and appropriate clothing(no open toed shoes/low cut shirts due to hot brass while shooting). \nEye and ear protection\, firearm and ammunition are all provided. \nIf this is your first time visiting our range\, be sure to fill out our waiver by clicking here : Waiver
URL:https://stlucieshooting.com/event/ccw-4-2021-12-29/
LOCATION:St Lucie Shooting Center\, 492 NW Concourse Pl\, Port Saint Lucie\, FL\, 34986\, United States
END:VEVENT
END:VCALENDAR