BEGIN:VCALENDAR
VERSION:2.0
PRODID:-//St Lucie Shooting Center - ECPv6.15.18//NONSGML v1.0//EN
CALSCALE:GREGORIAN
METHOD:PUBLISH
X-WR-CALNAME:St Lucie Shooting Center
X-ORIGINAL-URL:https://stlucieshooting.com
X-WR-CALDESC:Events for St Lucie Shooting Center
REFRESH-INTERVAL;VALUE=DURATION:PT1H
X-Robots-Tag:noindex
X-PUBLISHED-TTL:PT1H
BEGIN:VTIMEZONE
TZID:UTC
BEGIN:STANDARD
TZOFFSETFROM:+0000
TZOFFSETTO:+0000
TZNAME:UTC
DTSTART:20210101T000000
END:STANDARD
END:VTIMEZONE
BEGIN:VEVENT
DTSTART;TZID=UTC:20220501T100000
DTEND;TZID=UTC:20220501T130000
DTSTAMP:20260420T083503
CREATED:20220425T181342Z
LAST-MODIFIED:20220425T181342Z
UID:12429-1651399200-1651410000@stlucieshooting.com
SUMMARY:CCW 1
DESCRIPTION:During the course\, students will have mostly classroom instruction\, at the end of the class there will be a firearm safety and handing assignment in the range. Completion of this class satisfies the competency requirement necessary to obtain a concealed weapon or firearm license under Florida law. \n3 hour course \nPlease arrive 5-10 minutes early for the class. \nComfortable and appropriate clothing(no open toed shoes/low cut shirts due to hot brass while shooting). \nEye and ear protection\, firearm and ammunition are all provided. \nIf this is your first time visiting our range\, be sure to fill out our waiver by clicking here : Waiver
URL:https://stlucieshooting.com/event/ccw-1-169/
LOCATION:St Lucie Shooting Center\, 492 NW Concourse Pl\, Port Saint Lucie\, FL\, 34986\, United States
END:VEVENT
BEGIN:VEVENT
DTSTART;TZID=UTC:20220504T180000
DTEND;TZID=UTC:20220504T200000
DTSTAMP:20260420T083503
CREATED:20220425T181528Z
LAST-MODIFIED:20220425T181528Z
UID:12440-1651687200-1651694400@stlucieshooting.com
SUMMARY:CCW 1
DESCRIPTION:During the course\, students will have mostly classroom instruction\, at the end of the class there will be a firearm safety and handing assignment in the range. Completion of this class satisfies the competency requirement necessary to obtain a concealed weapon or firearm license under Florida law. \n3 hour course \nPlease arrive 5-10 minutes early for the class. \nComfortable and appropriate clothing(no open toed shoes/low cut shirts due to hot brass while shooting). \nEye and ear protection\, firearm and ammunition are all provided. \nIf this is your first time visiting our range\, be sure to fill out our waiver by clicking here : Waiver
URL:https://stlucieshooting.com/event/ccw-1-171/
LOCATION:St Lucie Shooting Center\, 492 NW Concourse Pl\, Port Saint Lucie\, FL\, 34986\, United States
END:VEVENT
BEGIN:VEVENT
DTSTART;TZID=UTC:20220507T100000
DTEND;TZID=UTC:20220507T130000
DTSTAMP:20260420T083503
CREATED:20220425T181439Z
LAST-MODIFIED:20220425T181439Z
UID:12435-1651917600-1651928400@stlucieshooting.com
SUMMARY:CCW 1
DESCRIPTION:During the course\, students will have mostly classroom instruction\, at the end of the class there will be a firearm safety and handing assignment in the range. Completion of this class satisfies the competency requirement necessary to obtain a concealed weapon or firearm license under Florida law. \n3 hour course \nPlease arrive 5-10 minutes early for the class. \nComfortable and appropriate clothing(no open toed shoes/low cut shirts due to hot brass while shooting). \nEye and ear protection\, firearm and ammunition are all provided. \nIf this is your first time visiting our range\, be sure to fill out our waiver by clicking here : Waiver
URL:https://stlucieshooting.com/event/ccw-1-170/
LOCATION:St Lucie Shooting Center\, 492 NW Concourse Pl\, Port Saint Lucie\, FL\, 34986\, United States
END:VEVENT
BEGIN:VEVENT
DTSTART;TZID=UTC:20220508T100000
DTEND;TZID=UTC:20220508T130000
DTSTAMP:20260420T083503
CREATED:20220425T181342Z
LAST-MODIFIED:20220425T181607Z
UID:12431-1652004000-1652014800@stlucieshooting.com
SUMMARY:CCW 1
DESCRIPTION:During the course\, students will have mostly classroom instruction\, at the end of the class there will be a firearm safety and handing assignment in the range. Completion of this class satisfies the competency requirement necessary to obtain a concealed weapon or firearm license under Florida law. \n3 hour course \nPlease arrive 5-10 minutes early for the class. \nComfortable and appropriate clothing(no open toed shoes/low cut shirts due to hot brass while shooting). \nEye and ear protection\, firearm and ammunition are all provided. \nIf this is your first time visiting our range\, be sure to fill out our waiver by clicking here : Waiver
URL:https://stlucieshooting.com/event/ccw-1-169-2022-05-08/
LOCATION:St Lucie Shooting Center\, 492 NW Concourse Pl\, Port Saint Lucie\, FL\, 34986\, United States
END:VEVENT
BEGIN:VEVENT
DTSTART;TZID=UTC:20220511T180000
DTEND;TZID=UTC:20220511T200000
DTSTAMP:20260420T083503
CREATED:20220425T181528Z
LAST-MODIFIED:20220425T181610Z
UID:12442-1652292000-1652299200@stlucieshooting.com
SUMMARY:CCW 1
DESCRIPTION:During the course\, students will have mostly classroom instruction\, at the end of the class there will be a firearm safety and handing assignment in the range. Completion of this class satisfies the competency requirement necessary to obtain a concealed weapon or firearm license under Florida law. \n3 hour course \nPlease arrive 5-10 minutes early for the class. \nComfortable and appropriate clothing(no open toed shoes/low cut shirts due to hot brass while shooting). \nEye and ear protection\, firearm and ammunition are all provided. \nIf this is your first time visiting our range\, be sure to fill out our waiver by clicking here : Waiver
URL:https://stlucieshooting.com/event/ccw-1-171-2022-05-11/
LOCATION:St Lucie Shooting Center\, 492 NW Concourse Pl\, Port Saint Lucie\, FL\, 34986\, United States
END:VEVENT
BEGIN:VEVENT
DTSTART;TZID=UTC:20220514T100000
DTEND;TZID=UTC:20220514T130000
DTSTAMP:20260420T083503
CREATED:20220425T181439Z
LAST-MODIFIED:20220425T181613Z
UID:12437-1652522400-1652533200@stlucieshooting.com
SUMMARY:CCW 1
DESCRIPTION:During the course\, students will have mostly classroom instruction\, at the end of the class there will be a firearm safety and handing assignment in the range. Completion of this class satisfies the competency requirement necessary to obtain a concealed weapon or firearm license under Florida law. \n3 hour course \nPlease arrive 5-10 minutes early for the class. \nComfortable and appropriate clothing(no open toed shoes/low cut shirts due to hot brass while shooting). \nEye and ear protection\, firearm and ammunition are all provided. \nIf this is your first time visiting our range\, be sure to fill out our waiver by clicking here : Waiver
URL:https://stlucieshooting.com/event/ccw-1-170-2022-05-14/
LOCATION:St Lucie Shooting Center\, 492 NW Concourse Pl\, Port Saint Lucie\, FL\, 34986\, United States
END:VEVENT
BEGIN:VEVENT
DTSTART;TZID=UTC:20220515T100000
DTEND;TZID=UTC:20220515T130000
DTSTAMP:20260420T083503
CREATED:20220425T181342Z
LAST-MODIFIED:20220425T181614Z
UID:12432-1652608800-1652619600@stlucieshooting.com
SUMMARY:CCW 1
DESCRIPTION:During the course\, students will have mostly classroom instruction\, at the end of the class there will be a firearm safety and handing assignment in the range. Completion of this class satisfies the competency requirement necessary to obtain a concealed weapon or firearm license under Florida law. \n3 hour course \nPlease arrive 5-10 minutes early for the class. \nComfortable and appropriate clothing(no open toed shoes/low cut shirts due to hot brass while shooting). \nEye and ear protection\, firearm and ammunition are all provided. \nIf this is your first time visiting our range\, be sure to fill out our waiver by clicking here : Waiver
URL:https://stlucieshooting.com/event/ccw-1-169-2022-05-15/
LOCATION:St Lucie Shooting Center\, 492 NW Concourse Pl\, Port Saint Lucie\, FL\, 34986\, United States
END:VEVENT
BEGIN:VEVENT
DTSTART;TZID=UTC:20220518T180000
DTEND;TZID=UTC:20220518T200000
DTSTAMP:20260420T083503
CREATED:20220425T181528Z
LAST-MODIFIED:20220425T181616Z
UID:12443-1652896800-1652904000@stlucieshooting.com
SUMMARY:CCW 1
DESCRIPTION:During the course\, students will have mostly classroom instruction\, at the end of the class there will be a firearm safety and handing assignment in the range. Completion of this class satisfies the competency requirement necessary to obtain a concealed weapon or firearm license under Florida law. \n3 hour course \nPlease arrive 5-10 minutes early for the class. \nComfortable and appropriate clothing(no open toed shoes/low cut shirts due to hot brass while shooting). \nEye and ear protection\, firearm and ammunition are all provided. \nIf this is your first time visiting our range\, be sure to fill out our waiver by clicking here : Waiver
URL:https://stlucieshooting.com/event/ccw-1-171-2022-05-18/
LOCATION:St Lucie Shooting Center\, 492 NW Concourse Pl\, Port Saint Lucie\, FL\, 34986\, United States
END:VEVENT
BEGIN:VEVENT
DTSTART;TZID=UTC:20220521T100000
DTEND;TZID=UTC:20220521T130000
DTSTAMP:20260420T083503
CREATED:20220425T181439Z
LAST-MODIFIED:20220425T181621Z
UID:12438-1653127200-1653138000@stlucieshooting.com
SUMMARY:CCW 1
DESCRIPTION:During the course\, students will have mostly classroom instruction\, at the end of the class there will be a firearm safety and handing assignment in the range. Completion of this class satisfies the competency requirement necessary to obtain a concealed weapon or firearm license under Florida law. \n3 hour course \nPlease arrive 5-10 minutes early for the class. \nComfortable and appropriate clothing(no open toed shoes/low cut shirts due to hot brass while shooting). \nEye and ear protection\, firearm and ammunition are all provided. \nIf this is your first time visiting our range\, be sure to fill out our waiver by clicking here : Waiver
URL:https://stlucieshooting.com/event/ccw-1-170-2022-05-21/
LOCATION:St Lucie Shooting Center\, 492 NW Concourse Pl\, Port Saint Lucie\, FL\, 34986\, United States
END:VEVENT
BEGIN:VEVENT
DTSTART;TZID=UTC:20220522T100000
DTEND;TZID=UTC:20220522T130000
DTSTAMP:20260420T083503
CREATED:20220425T181342Z
LAST-MODIFIED:20220425T181623Z
UID:12433-1653213600-1653224400@stlucieshooting.com
SUMMARY:CCW 1
DESCRIPTION:During the course\, students will have mostly classroom instruction\, at the end of the class there will be a firearm safety and handing assignment in the range. Completion of this class satisfies the competency requirement necessary to obtain a concealed weapon or firearm license under Florida law. \n3 hour course \nPlease arrive 5-10 minutes early for the class. \nComfortable and appropriate clothing(no open toed shoes/low cut shirts due to hot brass while shooting). \nEye and ear protection\, firearm and ammunition are all provided. \nIf this is your first time visiting our range\, be sure to fill out our waiver by clicking here : Waiver
URL:https://stlucieshooting.com/event/ccw-1-169-2022-05-22/
LOCATION:St Lucie Shooting Center\, 492 NW Concourse Pl\, Port Saint Lucie\, FL\, 34986\, United States
END:VEVENT
BEGIN:VEVENT
DTSTART;TZID=UTC:20220525T180000
DTEND;TZID=UTC:20220525T200000
DTSTAMP:20260420T083503
CREATED:20220425T181528Z
LAST-MODIFIED:20220425T181625Z
UID:12444-1653501600-1653508800@stlucieshooting.com
SUMMARY:CCW 1
DESCRIPTION:During the course\, students will have mostly classroom instruction\, at the end of the class there will be a firearm safety and handing assignment in the range. Completion of this class satisfies the competency requirement necessary to obtain a concealed weapon or firearm license under Florida law. \n3 hour course \nPlease arrive 5-10 minutes early for the class. \nComfortable and appropriate clothing(no open toed shoes/low cut shirts due to hot brass while shooting). \nEye and ear protection\, firearm and ammunition are all provided. \nIf this is your first time visiting our range\, be sure to fill out our waiver by clicking here : Waiver
URL:https://stlucieshooting.com/event/ccw-1-171-2022-05-25/
LOCATION:St Lucie Shooting Center\, 492 NW Concourse Pl\, Port Saint Lucie\, FL\, 34986\, United States
END:VEVENT
BEGIN:VEVENT
DTSTART;TZID=UTC:20220528T100000
DTEND;TZID=UTC:20220528T130000
DTSTAMP:20260420T083503
CREATED:20220425T181439Z
LAST-MODIFIED:20220425T181626Z
UID:12439-1653732000-1653742800@stlucieshooting.com
SUMMARY:CCW 1
DESCRIPTION:During the course\, students will have mostly classroom instruction\, at the end of the class there will be a firearm safety and handing assignment in the range. Completion of this class satisfies the competency requirement necessary to obtain a concealed weapon or firearm license under Florida law. \n3 hour course \nPlease arrive 5-10 minutes early for the class. \nComfortable and appropriate clothing(no open toed shoes/low cut shirts due to hot brass while shooting). \nEye and ear protection\, firearm and ammunition are all provided. \nIf this is your first time visiting our range\, be sure to fill out our waiver by clicking here : Waiver
URL:https://stlucieshooting.com/event/ccw-1-170-2022-05-28/
LOCATION:St Lucie Shooting Center\, 492 NW Concourse Pl\, Port Saint Lucie\, FL\, 34986\, United States
END:VEVENT
BEGIN:VEVENT
DTSTART;TZID=UTC:20220529T100000
DTEND;TZID=UTC:20220529T130000
DTSTAMP:20260420T083503
CREATED:20220425T181342Z
LAST-MODIFIED:20220425T181628Z
UID:12434-1653818400-1653829200@stlucieshooting.com
SUMMARY:CCW 1
DESCRIPTION:During the course\, students will have mostly classroom instruction\, at the end of the class there will be a firearm safety and handing assignment in the range. Completion of this class satisfies the competency requirement necessary to obtain a concealed weapon or firearm license under Florida law. \n3 hour course \nPlease arrive 5-10 minutes early for the class. \nComfortable and appropriate clothing(no open toed shoes/low cut shirts due to hot brass while shooting). \nEye and ear protection\, firearm and ammunition are all provided. \nIf this is your first time visiting our range\, be sure to fill out our waiver by clicking here : Waiver
URL:https://stlucieshooting.com/event/ccw-1-169-2022-05-29/
LOCATION:St Lucie Shooting Center\, 492 NW Concourse Pl\, Port Saint Lucie\, FL\, 34986\, United States
END:VEVENT
END:VCALENDAR