BEGIN:VCALENDAR
VERSION:2.0
PRODID:-//St Lucie Shooting Center - ECPv6.15.18//NONSGML v1.0//EN
CALSCALE:GREGORIAN
METHOD:PUBLISH
X-WR-CALNAME:St Lucie Shooting Center
X-ORIGINAL-URL:https://stlucieshooting.com
X-WR-CALDESC:Events for St Lucie Shooting Center
REFRESH-INTERVAL;VALUE=DURATION:PT1H
X-Robots-Tag:noindex
X-PUBLISHED-TTL:PT1H
BEGIN:VTIMEZONE
TZID:UTC
BEGIN:STANDARD
TZOFFSETFROM:+0000
TZOFFSETTO:+0000
TZNAME:UTC
DTSTART:20190101T000000
END:STANDARD
END:VTIMEZONE
BEGIN:VEVENT
DTSTART;TZID=UTC:20201011T100000
DTEND;TZID=UTC:20201011T130000
DTSTAMP:20260419T235052
CREATED:20201001T130647Z
LAST-MODIFIED:20201001T130647Z
UID:960-1602410400-1602421200@stlucieshooting.com
SUMMARY:CCW 1
DESCRIPTION:During the course\, students will have mostly classroom instruction\, at the end of the class there will be a firearm safety and handing assignment in the range. Completion of this class satisfies the competency requirement necessary to obtain a concealed weapon or firearm license under Florida law. \n3 hour course \nPlease arrive 5-10 minutes early for the class. \nComfortable and appropriate clothing(no open toed shoes/low cut shirts due to hot brass while shooting). \nEye and ear protection\, firearm and ammunition are all provided. \nIf this is your first time visiting our range\, be sure to fill out our waiver by clicking here : Waiver
URL:https://stlucieshooting.com/event/ccw-1-17/
LOCATION:St Lucie Shooting Center\, 492 NW Concourse Pl\, Port Saint Lucie\, FL\, 34986\, United States
END:VEVENT
BEGIN:VEVENT
DTSTART;TZID=UTC:20201010T100000
DTEND;TZID=UTC:20201010T130000
DTSTAMP:20260419T235052
CREATED:20201001T130458Z
LAST-MODIFIED:20201001T130458Z
UID:957-1602324000-1602334800@stlucieshooting.com
SUMMARY:CCW 1
DESCRIPTION:During the course\, students will have mostly classroom instruction\, at the end of the class there will be a firearm safety and handing assignment in the range. Completion of this class satisfies the competency requirement necessary to obtain a concealed weapon or firearm license under Florida law. \n3 hour course \nPlease arrive 5-10 minutes early for the class. \nComfortable and appropriate clothing(no open toed shoes/low cut shirts due to hot brass while shooting). \nEye and ear protection\, firearm and ammunition are all provided. \nIf this is your first time visiting our range\, be sure to fill out our waiver by clicking here : Waiver
URL:https://stlucieshooting.com/event/ccw-1-16/
LOCATION:St Lucie Shooting Center\, 492 NW Concourse Pl\, Port Saint Lucie\, FL\, 34986\, United States
END:VEVENT
BEGIN:VEVENT
DTSTART;TZID=UTC:20201007T180000
DTEND;TZID=UTC:20201007T203000
DTSTAMP:20260419T235052
CREATED:20201001T130246Z
LAST-MODIFIED:20201001T130246Z
UID:954-1602093600-1602102600@stlucieshooting.com
SUMMARY:CCW 1
DESCRIPTION:During the course\, students will have mostly classroom instruction\, at the end of the class there will be a firearm safety and handing assignment in the range. Completion of this class satisfies the competency requirement necessary to obtain a concealed weapon or firearm license under Florida law. \n3 hour course \nPlease arrive 5-10 minutes early for the class. \nComfortable and appropriate clothing(no open toed shoes/low cut shirts due to hot brass while shooting). \nEye and ear protection\, firearm and ammunition are all provided. \nIf this is your first time visiting our range\, be sure to fill out our waiver by clicking here : Waiver
URL:https://stlucieshooting.com/event/ccw-1-15/
LOCATION:St Lucie Shooting Center\, 492 NW Concourse Pl\, Port Saint Lucie\, FL\, 34986\, United States
END:VEVENT
BEGIN:VEVENT
DTSTART;TZID=UTC:20201004T100000
DTEND;TZID=UTC:20201004T130000
DTSTAMP:20260419T235052
CREATED:20200901T161459Z
LAST-MODIFIED:20200901T161925Z
UID:715-1601805600-1601816400@stlucieshooting.com
SUMMARY:CCW 1
DESCRIPTION:During the course\, students will have mostly classroom instruction\, at the end of the class there will be a firearm safety and handing assignment in the range. Completion of this class satisfies the competency requirement necessary to obtain a concealed weapon or firearm license under Florida law. \n3 hour course \nPlease arrive 5-10 minutes early for the class. \nComfortable and appropriate clothing(no open toed shoes/low cut shirts due to hot brass while shooting). \nEye and ear protection\, firearm and ammunition are all provided. \nIf this is your first time visiting our range\, be sure to fill out our waiver by clicking here : Waiver
URL:https://stlucieshooting.com/event/ccw-1-14/
LOCATION:St Lucie Shooting Center\, 492 NW Concourse Pl\, Port Saint Lucie\, FL\, 34986\, United States
END:VEVENT
BEGIN:VEVENT
DTSTART;TZID=UTC:20201003T100000
DTEND;TZID=UTC:20201003T130000
DTSTAMP:20260419T235052
CREATED:20200901T161419Z
LAST-MODIFIED:20200901T161921Z
UID:712-1601719200-1601730000@stlucieshooting.com
SUMMARY:CCW 1
DESCRIPTION:During the course\, students will have mostly classroom instruction\, at the end of the class there will be a firearm safety and handing assignment in the range. Completion of this class satisfies the competency requirement necessary to obtain a concealed weapon or firearm license under Florida law. \n3 hour course \nPlease arrive 5-10 minutes early for the class. \nComfortable and appropriate clothing(no open toed shoes/low cut shirts due to hot brass while shooting). \nEye and ear protection\, firearm and ammunition are all provided. \nIf this is your first time visiting our range\, be sure to fill out our waiver by clicking here : Waiver
URL:https://stlucieshooting.com/event/ccw-1-13/
LOCATION:St Lucie Shooting Center\, 492 NW Concourse Pl\, Port Saint Lucie\, FL\, 34986\, United States
END:VEVENT
BEGIN:VEVENT
DTSTART;TZID=UTC:20201001T180000
DTEND;TZID=UTC:20201001T210000
DTSTAMP:20260419T235052
CREATED:20200911T000802Z
LAST-MODIFIED:20200924T145706Z
UID:783-1601575200-1601586000@stlucieshooting.com
SUMMARY:Ladies Night Shooting & Fundamentals
DESCRIPTION:This class will review shooting fundamentals\, conceal carry methods for ladies\, non-live/live drills\, muscle memory drills\, and how to load/unload magazines and clearing of firearms. \n$60.00 per student\nStudent will need a firearm(rentals available)\, and one box of ammunition(available for purchase).\nEye and ear protection provided. \nIf this is your first time visiting our range\, be sure to fill out our waiver by clicking here : Waiver
URL:https://stlucieshooting.com/event/ladies-night-shooting-and-fundamentals/
LOCATION:St Lucie Shooting Center\, 492 NW Concourse Pl\, Port Saint Lucie\, FL\, 34986\, United States
END:VEVENT
BEGIN:VEVENT
DTSTART;TZID=UTC:20200930T180000
DTEND;TZID=UTC:20200930T203000
DTSTAMP:20260419T235052
CREATED:20200901T161321Z
LAST-MODIFIED:20200901T161916Z
UID:709-1601488800-1601497800@stlucieshooting.com
SUMMARY:CCW 1
DESCRIPTION:During the course\, students will have mostly classroom instruction\, at the end of the class there will be a firearm safety and handing assignment in the range. Completion of this class satisfies the competency requirement necessary to obtain a concealed weapon or firearm license under Florida law. \n3 hour course \nPlease arrive 5-10 minutes early for the class. \nComfortable and appropriate clothing(no open toed shoes/low cut shirts due to hot brass while shooting). \nEye and ear protection\, firearm and ammunition are all provided. \nIf this is your first time visiting our range\, be sure to fill out our waiver by clicking here : Waiver
URL:https://stlucieshooting.com/event/ccw-1-12/
LOCATION:St Lucie Shooting Center\, 492 NW Concourse Pl\, Port Saint Lucie\, FL\, 34986\, United States
END:VEVENT
BEGIN:VEVENT
DTSTART;TZID=UTC:20200927T100000
DTEND;TZID=UTC:20200927T130000
DTSTAMP:20260419T235052
CREATED:20200901T161224Z
LAST-MODIFIED:20200901T161913Z
UID:706-1601200800-1601211600@stlucieshooting.com
SUMMARY:CCW 1
DESCRIPTION:During the course\, students will have mostly classroom instruction\, at the end of the class there will be a firearm safety and handing assignment in the range. Completion of this class satisfies the competency requirement necessary to obtain a concealed weapon or firearm license under Florida law. \n3 hour course \nPlease arrive 5-10 minutes early for the class. \nComfortable and appropriate clothing(no open toed shoes/low cut shirts due to hot brass while shooting). \nEye and ear protection\, firearm and ammunition are all provided. \nIf this is your first time visiting our range\, be sure to fill out our waiver by clicking here : Waiver
URL:https://stlucieshooting.com/event/ccw-1-11/
LOCATION:St Lucie Shooting Center\, 492 NW Concourse Pl\, Port Saint Lucie\, FL\, 34986\, United States
END:VEVENT
BEGIN:VEVENT
DTSTART;TZID=UTC:20200926T100000
DTEND;TZID=UTC:20200926T130000
DTSTAMP:20260419T235052
CREATED:20200901T161116Z
LAST-MODIFIED:20200901T161908Z
UID:703-1601114400-1601125200@stlucieshooting.com
SUMMARY:CCW 1
DESCRIPTION:During the course\, students will have mostly classroom instruction\, at the end of the class there will be a firearm safety and handing assignment in the range. Completion of this class satisfies the competency requirement necessary to obtain a concealed weapon or firearm license under Florida law. \n3 hour course \nPlease arrive 5-10 minutes early for the class. \nComfortable and appropriate clothing(no open toed shoes/low cut shirts due to hot brass while shooting). \nEye and ear protection\, firearm and ammunition are all provided. \nIf this is your first time visiting our range\, be sure to fill out our waiver by clicking here : Waiver
URL:https://stlucieshooting.com/event/ccw-1-10/
LOCATION:St Lucie Shooting Center\, 492 NW Concourse Pl\, Port Saint Lucie\, FL\, 34986\, United States
END:VEVENT
BEGIN:VEVENT
DTSTART;TZID=UTC:20200923T180000
DTEND;TZID=UTC:20200923T203000
DTSTAMP:20260419T235052
CREATED:20200901T161029Z
LAST-MODIFIED:20200901T161902Z
UID:700-1600884000-1600893000@stlucieshooting.com
SUMMARY:CCW 1
DESCRIPTION:During the course\, students will have mostly classroom instruction\, at the end of the class there will be a firearm safety and handing assignment in the range. Completion of this class satisfies the competency requirement necessary to obtain a concealed weapon or firearm license under Florida law. \n3 hour course \nPlease arrive 5-10 minutes early for the class. \nComfortable and appropriate clothing(no open toed shoes/low cut shirts due to hot brass while shooting). \nEye and ear protection\, firearm and ammunition are all provided. \nIf this is your first time visiting our range\, be sure to fill out our waiver by clicking here : Waiver
URL:https://stlucieshooting.com/event/ccw-1-9/
LOCATION:St Lucie Shooting Center\, 492 NW Concourse Pl\, Port Saint Lucie\, FL\, 34986\, United States
END:VEVENT
BEGIN:VEVENT
DTSTART;TZID=UTC:20200920T100000
DTEND;TZID=UTC:20200920T130000
DTSTAMP:20260419T235052
CREATED:20200901T160922Z
LAST-MODIFIED:20200901T161856Z
UID:696-1600596000-1600606800@stlucieshooting.com
SUMMARY:CCW 1
DESCRIPTION:During the course\, students will have mostly classroom instruction\, at the end of the class there will be a firearm safety and handing assignment in the range. Completion of this class satisfies the competency requirement necessary to obtain a concealed weapon or firearm license under Florida law. \n3 hour course \nPlease arrive 5-10 minutes early for the class. \nComfortable and appropriate clothing(no open toed shoes/low cut shirts due to hot brass while shooting). \nEye and ear protection\, firearm and ammunition are all provided. \nIf this is your first time visiting our range\, be sure to fill out our waiver by clicking here : Waiver
URL:https://stlucieshooting.com/event/ccw-1-8/
LOCATION:St Lucie Shooting Center\, 492 NW Concourse Pl\, Port Saint Lucie\, FL\, 34986\, United States
END:VEVENT
BEGIN:VEVENT
DTSTART;TZID=UTC:20200919T100000
DTEND;TZID=UTC:20200919T130000
DTSTAMP:20260419T235052
CREATED:20200901T160824Z
LAST-MODIFIED:20200901T161848Z
UID:693-1600509600-1600520400@stlucieshooting.com
SUMMARY:CCW 1
DESCRIPTION:During the course\, students will have mostly classroom instruction\, at the end of the class there will be a firearm safety and handing assignment in the range. Completion of this class satisfies the competency requirement necessary to obtain a concealed weapon or firearm license under Florida law. \n3 hour course \nPlease arrive 5-10 minutes early for the class. \nComfortable and appropriate clothing(no open toed shoes/low cut shirts due to hot brass while shooting). \nEye and ear protection\, firearm and ammunition are all provided. \nIf this is your first time visiting our range\, be sure to fill out our waiver by clicking here : Waiver
URL:https://stlucieshooting.com/event/ccw-1-7/
LOCATION:St Lucie Shooting Center\, 492 NW Concourse Pl\, Port Saint Lucie\, FL\, 34986\, United States
END:VEVENT
BEGIN:VEVENT
DTSTART;TZID=UTC:20200917T180000
DTEND;TZID=UTC:20200917T200000
DTSTAMP:20260419T235052
CREATED:20200901T162343Z
LAST-MODIFIED:20200911T003117Z
UID:734-1600365600-1600372800@stlucieshooting.com
SUMMARY:Gun Cleaning & Maintenance
DESCRIPTION:Learn how to clean and maintain your weapon.  \nClass is open seating\, meaning show up any time in the time period(6pm-8pm) to join the class!  \nRequired : Firearm\, firearm manual(if available)\, gun cleaning kit(available for purchase)
URL:https://stlucieshooting.com/event/gun-cleaning-and-maintenance/
LOCATION:St Lucie Shooting Center\, 492 NW Concourse Pl\, Port Saint Lucie\, FL\, 34986\, United States
END:VEVENT
BEGIN:VEVENT
DTSTART;TZID=UTC:20200916T180000
DTEND;TZID=UTC:20200916T203000
DTSTAMP:20260419T235052
CREATED:20200901T160732Z
LAST-MODIFIED:20200901T161836Z
UID:690-1600279200-1600288200@stlucieshooting.com
SUMMARY:CCW 1
DESCRIPTION:During the course\, students will have mostly classroom instruction\, at the end of the class there will be a firearm safety and handing assignment in the range. Completion of this class satisfies the competency requirement necessary to obtain a concealed weapon or firearm license under Florida law. \n3 hour course \nPlease arrive 5-10 minutes early for the class. \nComfortable and appropriate clothing(no open toed shoes/low cut shirts due to hot brass while shooting). \nEye and ear protection\, firearm and ammunition are all provided. \nIf this is your first time visiting our range\, be sure to fill out our waiver by clicking here : Waiver
URL:https://stlucieshooting.com/event/ccw-1-6/
LOCATION:St Lucie Shooting Center\, 492 NW Concourse Pl\, Port Saint Lucie\, FL\, 34986\, United States
END:VEVENT
BEGIN:VEVENT
DTSTART;TZID=UTC:20200913T100000
DTEND;TZID=UTC:20200913T130000
DTSTAMP:20260419T235052
CREATED:20200901T160628Z
LAST-MODIFIED:20200901T161832Z
UID:687-1599991200-1600002000@stlucieshooting.com
SUMMARY:CCW 1
DESCRIPTION:During the course\, students will have mostly classroom instruction\, at the end of the class there will be a firearm safety and handing assignment in the range. Completion of this class satisfies the competency requirement necessary to obtain a concealed weapon or firearm license under Florida law. \n3 hour course \nPlease arrive 5-10 minutes early for the class. \nComfortable and appropriate clothing(no open toed shoes/low cut shirts due to hot brass while shooting). \nEye and ear protection\, firearm and ammunition are all provided. \nIf this is your first time visiting our range\, be sure to fill out our waiver by clicking here : Waiver
URL:https://stlucieshooting.com/event/ccw-1-5/
LOCATION:St Lucie Shooting Center\, 492 NW Concourse Pl\, Port Saint Lucie\, FL\, 34986\, United States
END:VEVENT
BEGIN:VEVENT
DTSTART;TZID=UTC:20200912T100000
DTEND;TZID=UTC:20200912T130000
DTSTAMP:20260419T235052
CREATED:20200901T160515Z
LAST-MODIFIED:20200901T161742Z
UID:684-1599904800-1599915600@stlucieshooting.com
SUMMARY:CCW 1
DESCRIPTION:During the course\, students will have mostly classroom instruction\, at the end of the class there will be a firearm safety and handing assignment in the range. Completion of this class satisfies the competency requirement necessary to obtain a concealed weapon or firearm license under Florida law. \n3 hour course \nPlease arrive 5-10 minutes early for the class. \nComfortable and appropriate clothing(no open toed shoes/low cut shirts due to hot brass while shooting). \nEye and ear protection\, firearm and ammunition are all provided. \nIf this is your first time visiting our range\, be sure to fill out our waiver by clicking here : Waiver
URL:https://stlucieshooting.com/event/ccw-1-4/
LOCATION:St Lucie Shooting Center\, 492 NW Concourse Pl\, Port Saint Lucie\, FL\, 34986\, United States
END:VEVENT
BEGIN:VEVENT
DTSTART;TZID=UTC:20200909T180000
DTEND;TZID=UTC:20200909T203000
DTSTAMP:20260419T235052
CREATED:20200901T160416Z
LAST-MODIFIED:20200901T161724Z
UID:681-1599674400-1599683400@stlucieshooting.com
SUMMARY:CCW 1
DESCRIPTION:During the course\, students will have mostly classroom instruction\, at the end of the class there will be a firearm safety and handing assignment in the range. Completion of this class satisfies the competency requirement necessary to obtain a concealed weapon or firearm license under Florida law. \n3 hour course \nPlease arrive 5-10 minutes early for the class. \nComfortable and appropriate clothing(no open toed shoes/low cut shirts due to hot brass while shooting). \nEye and ear protection\, firearm and ammunition are all provided. \nIf this is your first time visiting our range\, be sure to fill out our waiver by clicking here : Waiver
URL:https://stlucieshooting.com/event/ccw-1-3/
LOCATION:St Lucie Shooting Center\, 492 NW Concourse Pl\, Port Saint Lucie\, FL\, 34986\, United States
END:VEVENT
BEGIN:VEVENT
DTSTART;TZID=UTC:20200906T100000
DTEND;TZID=UTC:20200906T130000
DTSTAMP:20260419T235052
CREATED:20200901T160301Z
LAST-MODIFIED:20200901T161708Z
UID:678-1599386400-1599397200@stlucieshooting.com
SUMMARY:CCW 1
DESCRIPTION:During the course\, students will have mostly classroom instruction\, at the end of the class there will be a firearm safety and handing assignment in the range. Completion of this class satisfies the competency requirement necessary to obtain a concealed weapon or firearm license under Florida law. \n3 hour course \nPlease arrive 5-10 minutes early for the class. \nComfortable and appropriate clothing(no open toed shoes/low cut shirts due to hot brass while shooting). \nEye and ear protection\, firearm and ammunition are all provided. \nIf this is your first time visiting our range\, be sure to fill out our waiver by clicking here : Waiver
URL:https://stlucieshooting.com/event/ccw-1-2/
LOCATION:St Lucie Shooting Center\, 492 NW Concourse Pl\, Port Saint Lucie\, FL\, 34986\, United States
END:VEVENT
BEGIN:VEVENT
DTSTART;TZID=UTC:20200905T100000
DTEND;TZID=UTC:20200905T130000
DTSTAMP:20260419T235052
CREATED:20200901T154712Z
LAST-MODIFIED:20200901T161648Z
UID:669-1599300000-1599310800@stlucieshooting.com
SUMMARY:CCW 1
DESCRIPTION:During the course\, students will have mostly classroom instruction\, at the end of the class there will be a firearm safety and handing assignment in the range. Completion of this class satisfies the competency requirement necessary to obtain a concealed weapon or firearm license under Florida law. \n3 hour course \nPlease arrive 5-10 minutes early for the class. \nComfortable and appropriate clothing(no open toed shoes/low cut shirts due to hot brass while shooting). \nEye and ear protection\, firearm and ammunition are all provided. \nIf this is your first time visiting our range\, be sure to fill out our waiver by clicking here : Waiver
URL:https://stlucieshooting.com/event/ccw-1/
LOCATION:St Lucie Shooting Center\, 492 NW Concourse Pl\, Port Saint Lucie\, FL\, 34986\, United States
END:VEVENT
BEGIN:VEVENT
DTSTART;TZID=UTC:20200902T180000
DTEND;TZID=UTC:20200902T203000
DTSTAMP:20260419T235052
CREATED:20200901T153631Z
LAST-MODIFIED:20200901T161625Z
UID:663-1599069600-1599078600@stlucieshooting.com
SUMMARY:CCW 1
DESCRIPTION:During the course\, students will have mostly classroom instruction\, at the end of the class there will be a firearm safety and handing assignment in the range. Completion of this class satisfies the competency requirement necessary to obtain a concealed weapon or firearm license under Florida law. \n3 hour course \nPlease arrive 5-10 minutes early for the class. \nComfortable and appropriate clothing(no open toed shoes/low cut shirts due to hot brass while shooting). \nEye and ear protection\, firearm and ammunition are all provided. \nIf this is your first time visiting our range\, be sure to fill out our waiver by clicking here : Waiver
URL:https://stlucieshooting.com/event/ccw1/
LOCATION:St Lucie Shooting Center\, 492 NW Concourse Pl\, Port Saint Lucie\, FL\, 34986\, United States
END:VEVENT
END:VCALENDAR